BEGIN:VCALENDAR
VERSION:2.0
PRODID:-//West Valley Symphony of Utah - ECPv6.15.17.1//NONSGML v1.0//EN
CALSCALE:GREGORIAN
METHOD:PUBLISH
X-ORIGINAL-URL:https://westvalleysymphonyutah.org
X-WR-CALDESC:Events for West Valley Symphony of Utah
REFRESH-INTERVAL;VALUE=DURATION:PT1H
X-Robots-Tag:noindex
X-PUBLISHED-TTL:PT1H
BEGIN:VTIMEZONE
TZID:America/Denver
BEGIN:DAYLIGHT
TZOFFSETFROM:-0700
TZOFFSETTO:-0600
TZNAME:MDT
DTSTART:20250309T090000
END:DAYLIGHT
BEGIN:STANDARD
TZOFFSETFROM:-0600
TZOFFSETTO:-0700
TZNAME:MST
DTSTART:20251102T080000
END:STANDARD
BEGIN:DAYLIGHT
TZOFFSETFROM:-0700
TZOFFSETTO:-0600
TZNAME:MDT
DTSTART:20260308T090000
END:DAYLIGHT
BEGIN:STANDARD
TZOFFSETFROM:-0600
TZOFFSETTO:-0700
TZNAME:MST
DTSTART:20261101T080000
END:STANDARD
BEGIN:DAYLIGHT
TZOFFSETFROM:-0700
TZOFFSETTO:-0600
TZNAME:MDT
DTSTART:20270314T090000
END:DAYLIGHT
BEGIN:STANDARD
TZOFFSETFROM:-0600
TZOFFSETTO:-0700
TZNAME:MST
DTSTART:20271107T080000
END:STANDARD
END:VTIMEZONE
BEGIN:VEVENT
DTSTART;TZID=America/Denver:20260625T193000
DTEND;TZID=America/Denver:20260625T213000
DTSTAMP:20260420T060536
CREATED:20230329T022716Z
LAST-MODIFIED:20260220T032019Z
UID:1240-1782415800-1782423000@westvalleysymphonyutah.org
SUMMARY:Taylorsville Dayzz
DESCRIPTION:Playing some patriotic favorites and introducing guest artist Always\, Adele! \nIt’s a full-blown Adele experience. Headliner Sarah Stallman will have you singing and laughing along the entire show with her combination of powerhouse vocals and down-to-earth charm. Complete with the epic songs you know and love\, as well as story-telling and banter just like you would hear from Adele herself\, you’ll feel as though you’re really at an Adele concert. And yes\, that includes the famous Tottenham accent!
URL:https://westvalleysymphonyutah.org/event/taylorsville-dayzzz/
LOCATION:Valley Regional Park\, 5100 South 2700 West\, Taylorsville\, UT\, 84119\, United States
END:VEVENT
BEGIN:VEVENT
DTSTART;TZID=America/Denver:20260629T200000
DTEND;TZID=America/Denver:20260629T210000
DTSTAMP:20260420T060536
CREATED:20250812T224730Z
LAST-MODIFIED:20251125T184534Z
UID:1540-1782763200-1782766800@westvalleysymphonyutah.org
SUMMARY:Season Finale - Celebrating 34 Years!
DESCRIPTION:Schedule subject to change.
URL:https://westvalleysymphonyutah.org/event/season-finale-celebrating-34-years/
LOCATION:Utah Cultural Celebration Center\, 1355 W 3100 S\, West Valley City\, UT\, 84119\, United States
END:VEVENT
END:VCALENDAR