BEGIN:VCALENDAR
VERSION:2.0
PRODID:-//West Valley Symphony of Utah - ECPv6.15.17.1//NONSGML v1.0//EN
CALSCALE:GREGORIAN
METHOD:PUBLISH
X-WR-CALNAME:West Valley Symphony of Utah
X-ORIGINAL-URL:https://westvalleysymphonyutah.org
X-WR-CALDESC:Events for West Valley Symphony of Utah
REFRESH-INTERVAL;VALUE=DURATION:PT1H
X-Robots-Tag:noindex
X-PUBLISHED-TTL:PT1H
BEGIN:VTIMEZONE
TZID:America/Denver
BEGIN:DAYLIGHT
TZOFFSETFROM:-0700
TZOFFSETTO:-0600
TZNAME:MDT
DTSTART:20240310T090000
END:DAYLIGHT
BEGIN:STANDARD
TZOFFSETFROM:-0600
TZOFFSETTO:-0700
TZNAME:MST
DTSTART:20241103T080000
END:STANDARD
BEGIN:DAYLIGHT
TZOFFSETFROM:-0700
TZOFFSETTO:-0600
TZNAME:MDT
DTSTART:20250309T090000
END:DAYLIGHT
BEGIN:STANDARD
TZOFFSETFROM:-0600
TZOFFSETTO:-0700
TZNAME:MST
DTSTART:20251102T080000
END:STANDARD
BEGIN:DAYLIGHT
TZOFFSETFROM:-0700
TZOFFSETTO:-0600
TZNAME:MDT
DTSTART:20260308T090000
END:DAYLIGHT
BEGIN:STANDARD
TZOFFSETFROM:-0600
TZOFFSETTO:-0700
TZNAME:MST
DTSTART:20261101T080000
END:STANDARD
END:VTIMEZONE
BEGIN:VEVENT
DTSTART;TZID=America/Denver:20250328T193000
DTEND;TZID=America/Denver:20250328T210000
DTSTAMP:20260421T001319
CREATED:20240815T231359Z
LAST-MODIFIED:20250320T205548Z
UID:1375-1743190200-1743195600@westvalleysymphonyutah.org
SUMMARY:Spring 2025 Concert
DESCRIPTION:If you love waltzes\, you don’t want to miss this concert…..\nIf you love Overtures\, you don’t want to miss this concert….\nIf you love Percussion\, you don’t want to miss this concert…..\nFree tickets required. Seating is limited.\nIf you cannot use your tickets\, please be considerate of others. Click here for tickets:\nWest Valley Symphony of Utah Spring Concert – ArtTix Official Ticket Sellersaltlakecountyarts.org
URL:https://westvalleysymphonyutah.org/event/spring-2025-concert/
LOCATION:Mid-Valley Performing Arts Center\, 2525 Taylorsville Blvd\, Taylorsville\, Utah\, 84129\, United States
ATTACH;FMTTYPE=image/png:https://westvalleysymphonyutah.org/wp-content/uploads/April-2025-Poster.png
END:VEVENT
BEGIN:VEVENT
DTSTART;TZID=America/Denver:20250329T193000
DTEND;TZID=America/Denver:20250329T210000
DTSTAMP:20260421T001319
CREATED:20240816T001046Z
LAST-MODIFIED:20250320T204449Z
UID:1377-1743276600-1743282000@westvalleysymphonyutah.org
SUMMARY:West Valley Symphony Spring Spectacular with the Choral Arts Society of Utah
DESCRIPTION:The West Valley Symphony of Utah was invited to perform with the Choral Arts Society of Utah and Wasatch Master Chorale for a concert on Saturday\, March 29th\, at Libby Gardner Concert Hall\, University of Utah. The performance will feature Ola Gjeilo’s Sunrise Mass\, along with works by Mozart\, Smetana\, and Mack Wilberg. \nAbout the Choral Arts Society of Utah:\nThe Choral Arts Society of Utah has been a prominent cultural organization in Utah since its inception in 1987\, showcasing the best in choral music from classical to contemporary genres. Their dedication to musical excellence is reflected in their many performances with local and national talent. \nThe Wasatch Master Chorale\, formed in 2004 after the Ogden Community Chorus disbanded\, is a non-denominational group with a focus on beautiful music. The West Valley Symphony of Utah\, established in 1991\, is an all-volunteer orchestra that performs a variety of music and often collaborates with the Choral Arts Society for various events. \nParking is available in the Parking Garage at 1455 East 100 South. \nConcert is FREE\, with no tickets required.
URL:https://westvalleysymphonyutah.org/event/wvsu-strings-accompany-the-utah-choral-arts-society/
LOCATION:Libby Gardner Concert Hall\, 1375 President's Circle\, Salt Lake City\, UT\, 84112\, United States
ATTACH;FMTTYPE=image/jpeg:https://westvalleysymphonyutah.org/wp-content/uploads/Spring-Concert-Poster.jpg
END:VEVENT
END:VCALENDAR