BEGIN:VCALENDAR
VERSION:2.0
PRODID:-//West Valley Symphony of Utah - ECPv6.15.17.1//NONSGML v1.0//EN
CALSCALE:GREGORIAN
METHOD:PUBLISH
X-WR-CALNAME:West Valley Symphony of Utah
X-ORIGINAL-URL:https://westvalleysymphonyutah.org
X-WR-CALDESC:Events for West Valley Symphony of Utah
REFRESH-INTERVAL;VALUE=DURATION:PT1H
X-Robots-Tag:noindex
X-PUBLISHED-TTL:PT1H
BEGIN:VTIMEZONE
TZID:America/Denver
BEGIN:DAYLIGHT
TZOFFSETFROM:-0700
TZOFFSETTO:-0600
TZNAME:MDT
DTSTART:20230312T090000
END:DAYLIGHT
BEGIN:STANDARD
TZOFFSETFROM:-0600
TZOFFSETTO:-0700
TZNAME:MST
DTSTART:20231105T080000
END:STANDARD
BEGIN:DAYLIGHT
TZOFFSETFROM:-0700
TZOFFSETTO:-0600
TZNAME:MDT
DTSTART:20240310T090000
END:DAYLIGHT
BEGIN:STANDARD
TZOFFSETFROM:-0600
TZOFFSETTO:-0700
TZNAME:MST
DTSTART:20241103T080000
END:STANDARD
BEGIN:DAYLIGHT
TZOFFSETFROM:-0700
TZOFFSETTO:-0600
TZNAME:MDT
DTSTART:20250309T090000
END:DAYLIGHT
BEGIN:STANDARD
TZOFFSETFROM:-0600
TZOFFSETTO:-0700
TZNAME:MST
DTSTART:20251102T080000
END:STANDARD
END:VTIMEZONE
BEGIN:VEVENT
DTSTART;TZID=America/Denver:20241202T193000
DTEND;TZID=America/Denver:20241202T193000
DTSTAMP:20260421T054656
CREATED:20240815T230433Z
LAST-MODIFIED:20241203T012101Z
UID:1368-1733167800-1733167800@westvalleysymphonyutah.org
SUMMARY:Winter Concert Series
DESCRIPTION:LyricsDecmember2024 \nCome enjoy a free live concert to get you and your family in the spirit with the West Valley Symphony of Utah!
URL:https://westvalleysymphonyutah.org/event/winter-concert-series-2/
LOCATION:Utah Cultural Celebration Center\, 1355 W 3100 S\, West Valley City\, UT\, 84119\, United States
END:VEVENT
BEGIN:VEVENT
DTSTART;TZID=America/Denver:20241207T193000
DTEND;TZID=America/Denver:20241207T210000
DTSTAMP:20260421T054656
CREATED:20240815T230659Z
LAST-MODIFIED:20240815T230659Z
UID:1371-1733599800-1733605200@westvalleysymphonyutah.org
SUMMARY:KUTV Holiday Pops Concert
DESCRIPTION:
URL:https://westvalleysymphonyutah.org/event/kutv-holiday-pops-concert-9/
LOCATION:Cottonwood High School\, 5715 South 1300 East\, Salt Lake City\, UT\, 84121\, United States
END:VEVENT
BEGIN:VEVENT
DTSTART;TZID=America/Denver:20241217T190000
DTEND;TZID=America/Denver:20241217T200000
DTSTAMP:20260421T054656
CREATED:20240815T230825Z
LAST-MODIFIED:20241013T222631Z
UID:1373-1734462000-1734465600@westvalleysymphonyutah.org
SUMMARY:Christmas Carole Sing-Along
DESCRIPTION:
URL:https://westvalleysymphonyutah.org/event/christmas-carole-sing-along-7/
LOCATION:Delta Center\, 301 West South Temple\, Salt Lake City\, UT\, 84101\, United States
END:VEVENT
END:VCALENDAR