BEGIN:VCALENDAR
VERSION:2.0
PRODID:-//West Valley Symphony of Utah - ECPv6.15.17.1//NONSGML v1.0//EN
CALSCALE:GREGORIAN
METHOD:PUBLISH
X-ORIGINAL-URL:https://westvalleysymphonyutah.org
X-WR-CALDESC:Events for West Valley Symphony of Utah
REFRESH-INTERVAL;VALUE=DURATION:PT1H
X-Robots-Tag:noindex
X-PUBLISHED-TTL:PT1H
BEGIN:VTIMEZONE
TZID:America/Denver
BEGIN:DAYLIGHT
TZOFFSETFROM:-0700
TZOFFSETTO:-0600
TZNAME:MDT
DTSTART:20230312T090000
END:DAYLIGHT
BEGIN:STANDARD
TZOFFSETFROM:-0600
TZOFFSETTO:-0700
TZNAME:MST
DTSTART:20231105T080000
END:STANDARD
BEGIN:DAYLIGHT
TZOFFSETFROM:-0700
TZOFFSETTO:-0600
TZNAME:MDT
DTSTART:20240310T090000
END:DAYLIGHT
BEGIN:STANDARD
TZOFFSETFROM:-0600
TZOFFSETTO:-0700
TZNAME:MST
DTSTART:20241103T080000
END:STANDARD
BEGIN:DAYLIGHT
TZOFFSETFROM:-0700
TZOFFSETTO:-0600
TZNAME:MDT
DTSTART:20250309T090000
END:DAYLIGHT
BEGIN:STANDARD
TZOFFSETFROM:-0600
TZOFFSETTO:-0700
TZNAME:MST
DTSTART:20251102T080000
END:STANDARD
END:VTIMEZONE
BEGIN:VEVENT
DTSTART;TZID=America/Denver:20241024T190000
DTEND;TZID=America/Denver:20241024T203000
DTSTAMP:20260421T092324
CREATED:20240815T160753Z
LAST-MODIFIED:20241017T203921Z
UID:1366-1729796400-1729801800@westvalleysymphonyutah.org
SUMMARY:October - Fall Concert 2024
DESCRIPTION:October – The West Valley Symphony of Utah invites you to this premier concert of it’s 33rd Season. Free Tickets (reserved seating) required and can be obtained thru ArtTix or saltlakecountyarts.org/events\n\nAshokan Farewell -Jay Unger\nAutumnal – Donny Gilbert\nComes Autumn Time – Leo Sowerby\nIn Autumn – Edvard Grieg\nOctober – Eric Whitacre\nPeer Gynt Suite No. 1\, Op. 56 – Edvard Grieg\nRide of the Valkyries – Richard Wagner\nThe Devil’s Dance (from “The Witches of Eastwick”) – John\nWilliams\nTrick or Treat for Strings – Fred Grossman
URL:https://westvalleysymphonyutah.org/event/fall-concert-2024/
LOCATION:Mid-Valley Performing Arts Center\, 2525 Taylorsville Blvd\, Taylorsville\, Utah\, 84129\, United States
END:VEVENT
END:VCALENDAR